BEGIN:VCALENDAR
VERSION:2.0
PRODID:-//ASHRAE Ghana Chapter - ECPv6.15.15//NONSGML v1.0//EN
CALSCALE:GREGORIAN
METHOD:PUBLISH
X-ORIGINAL-URL:https://ashraeghana.org
X-WR-CALDESC:Events for ASHRAE Ghana Chapter
REFRESH-INTERVAL;VALUE=DURATION:PT1H
X-Robots-Tag:noindex
X-PUBLISHED-TTL:PT1H
BEGIN:VTIMEZONE
TZID:Africa/Accra
BEGIN:STANDARD
TZOFFSETFROM:+0000
TZOFFSETTO:+0000
TZNAME:GMT
DTSTART:20230101T000000
END:STANDARD
END:VTIMEZONE
BEGIN:VTIMEZONE
TZID:UTC
BEGIN:STANDARD
TZOFFSETFROM:+0000
TZOFFSETTO:+0000
TZNAME:UTC
DTSTART:20230101T000000
END:STANDARD
END:VTIMEZONE
BEGIN:VEVENT
DTSTART;TZID=Africa/Accra:20260330T080000
DTEND;TZID=Africa/Accra:20260330T170000
DTSTAMP:20260423T041527
CREATED:20260330T140120Z
LAST-MODIFIED:20260330T141715Z
UID:11529-1774857600-1774890000@ashraeghana.org
SUMMARY:ASHRAE GOLF TOURNAMENT
DESCRIPTION:Join us for the ASHRAE Ghana Chapter Golf Challenge 2026 — a day of sport\, networking\, and impact. \nThis event goes beyond the game. It is a fundraising initiative aimed at supporting research in universities and advancing the development of standards within the built environment. \n📅 Date: Saturday\, 25th April 2026📍 Venue: Celebrity Golf Course⏰ Breakfast: 8:00 AM⏰ Shotgun Start: 8:30 AM💰 Entry Fee: GHC 300 \nWhether you are a seasoned golfer or simply passionate about supporting a worthy cause\, this is your opportunity to contribute meaningfully while connecting with industry professionals. \nBe part of the impact. Play for a purpose. \n  \n 
URL:https://ashraeghana.org/event/ashrae-golf-tournament/
CATEGORIES:Chapter Meetings,Events
ATTACH;FMTTYPE=image/jpeg:https://ashraeghana.org/wp-content/uploads/2026/03/GOLF-CHALENGE.jpg-1.jpeg
END:VEVENT
BEGIN:VEVENT
DTSTART;TZID=UTC:20250129T170000
DTEND;TZID=UTC:20250129T180000
DTSTAMP:20260423T041527
CREATED:20250108T115948Z
LAST-MODIFIED:20250109T101650Z
UID:895-1738170000-1738173600@ashraeghana.org
SUMMARY:January General Meeting
DESCRIPTION:🌟 Join us for our first general meeting for the year 2025 🌟 \nWe’re excited to invite you to ASHRAE Ghana Chapter’s first General Meeting of the year. Don’t miss this insightful session on “Building Decarbonization: Reducing Operating Emissions” led by the distinguished lecturer Mick Schwedler. \n📅 Date: Wednesday\, 29th January 2025\n⏰ Time: 5:00 PM \n📌 Platform: Microsoft Teams \nhttps://teams.microsoft.com/meet/370404769218?p=VJwaHXplQp7ZufyHuU \nLet’s kick off the year with inspiration and collaboration!
URL:https://ashraeghana.org/event/example-event-2/
CATEGORIES:Chapter Meetings,Events
ATTACH;FMTTYPE=image/jpeg:https://ashraeghana.org/wp-content/uploads/2025/07/January-Gen.jpg
END:VEVENT
BEGIN:VEVENT
DTSTART;TZID=UTC:20250117T130000
DTEND;TZID=UTC:20250117T140000
DTSTAMP:20260423T041527
CREATED:20250108T120855Z
LAST-MODIFIED:20250109T101741Z
UID:898-1737118800-1737122400@ashraeghana.org
SUMMARY:Webinar: Demystifying Desiccant Dehumidification – It’s (Not) Rocket Science
DESCRIPTION:The session will be led by Mr. David N. Schurk\, an ASHRAE Distinguished Lecturer\, who will share his valuable expertise and practical insights on this intriguing subject. \n📅 Date: Friday\, 17th January 2025\n⏰ Time: 1:00 PM\n⏳ Duration: 1.5 hours \nThis is a great opportunity to enhance your understanding of desiccant dehumidification systems\, their applications\, and the science behind them. Don’t miss out on learning from an industry expert and gaining insights that can be applied to real-world challenges. \nWe look forward to your participation in this interactive session. Click the link below to register! \nhttps://ashrae.webex.com/weblink/register/rb253c9b91f63f637e90fd4af9ff2a170
URL:https://ashraeghana.org/event/webinar-demystifying-desiccant-dehumidification-its-not-rocket-science/
CATEGORIES:Chapter Meetings,Events
ATTACH;FMTTYPE=image/jpeg:https://ashraeghana.org/wp-content/uploads/2025/07/empowerment.jpg
END:VEVENT
BEGIN:VEVENT
DTSTART;TZID=UTC:20250116T113000
DTEND;TZID=UTC:20250116T130000
DTSTAMP:20260423T041527
CREATED:20250108T010344Z
LAST-MODIFIED:20250109T101801Z
UID:1026-1737027000-1737032400@ashraeghana.org
SUMMARY:Climate Change\, Sustainability\, and Decarbonization of Buildings
DESCRIPTION:The ASHRAE Faisalabad Chapter invites you to a scheduled Technical Seminar: \nSpeaker: Mr. Zeeshan Ahmad Saddiqui\nDate: 16th January 2025\nTime: 4:30 PM (Islamabad\, Karachi\, Tashkent Time) \n📌 Join Zoom Meeting\nhttps://us06web.zoom.us/j/86136695429?pwd=awdrRIRLGbFSXQ5huMIUIPUOOlFdHK.1 \nMeeting ID: 861 3669 5429\nPasscode: 296216 \nWe look forward to your participation in this informative session on climate change and building decarbonization. \n\n\n\n\n\n\n\n  \n\n4o mini
URL:https://ashraeghana.org/event/example-chapter-meeting-1/
CATEGORIES:Chapter Meetings
ATTACH;FMTTYPE=image/jpeg:https://ashraeghana.org/wp-content/uploads/2025/01/climate.jpg
END:VEVENT
BEGIN:VEVENT
DTSTART;TZID=Africa/Accra:20250109T080000
DTEND;TZID=Africa/Accra:20250109T170000
DTSTAMP:20260423T041527
CREATED:20250109T101518Z
LAST-MODIFIED:20250109T101518Z
UID:10794-1736409600-1736442000@ashraeghana.org
SUMMARY:Integrating Indoor Air Quality and Energy Efficiency in Buildings
DESCRIPTION:You are invited to join an online Distinguished Lecturer (DL) webinar: \n📅 Date: Saturday\, 11th January 2025\n⏰ Time: 12:00 PM to 1:00 PM GMT \n📌 Register for the webinar: \nhttps://ashrae.webex.com/weblink/register/r876a2c6061afa8f1338c4549a6aee6b4 \n 
URL:https://ashraeghana.org/event/integrating-indoor-air-quality-and-energy-efficiency-in-buildings/
CATEGORIES:Chapter Meetings
ATTACH;FMTTYPE=image/jpeg:https://ashraeghana.org/wp-content/uploads/2025/01/DL.jpg
END:VEVENT
BEGIN:VEVENT
DTSTART;TZID=Africa/Accra:20241221T140000
DTEND;TZID=Africa/Accra:20241221T183000
DTSTAMP:20260423T041527
CREATED:20241219T132649Z
LAST-MODIFIED:20241219T133206Z
UID:1031-1734789600-1734805800@ashraeghana.org
SUMMARY:WEBINAR: Topic: “High Performance Building Design – What the Future holds for the Direction for our Industry”
DESCRIPTION:We are excited to invite you to an upcoming webinar that promises to be both informative and engaging. This is a great opportunity to enhance your knowledge and connect with fellow professionals in the field. \nTopic: “High Performance Building Design – What the Future holds for the Direction for our Industry” \nDate: 21st December 2024\nTime: 5 PM -6.30 PM (Bahrain Time\, GMT+3)\nSpeaker: Prof. Lawrence PhD. Mechanical Engineering – University of Georgia. \nGet registered by using this link: https https://teams.microsoft.com/l/meetup-join/19%3ameeting_Y2I3Yzc0NmQtYTY2My00MjQ5LTg0YzAtMDYwMjgxYzE5N2Mx%40thread.v2/0?context=%7b%22Tid%22%3a%22ff8a4132-338c-46a7-9b25-0475e714d34d%22%2c%22Oid%22%3a%22067a6f90-114a-4b9f-8920-901ba8713a9b%22%7d
URL:https://ashraeghana.org/event/webinar/
CATEGORIES:Chapter Meetings
ATTACH;FMTTYPE=image/jpeg:https://ashraeghana.org/wp-content/uploads/2021/07/WEBINAR.jpg
END:VEVENT
BEGIN:VEVENT
DTSTART;TZID=UTC:20241220T170000
DTEND;TZID=UTC:20241220T170000
DTSTAMP:20260423T041527
CREATED:20241119T125551Z
LAST-MODIFIED:20250109T101835Z
UID:1028-1734714000-1734714000@ashraeghana.org
SUMMARY:2024 End-of-Year Get-Together
DESCRIPTION:Dear Esteemed ASHRAE Ghana Chapter Members\,\nAs the year draws to a close\, it’s time to come together\, reflect\, and celebrate our achievements. Join us for our End-of-Year Get-Together on: \n📅 Date: 20th December\n🕔 Time: 5:00 PM\n📍 Venue: Ghana Institution of Engineering\nWhat’s in store?\n• An engaging talk on “Ethical Dilemmas Facing Engineers in Ghana” – a topic that resonates with us all.\n• Good food\, refreshing drinks\, and great company\nLet’s make this gathering a memorable one as we wrap up 2024 and look forward to an even brighter year ahead. Come ready to engage\, connect\, and toast to our collective successes.\nWe can’t wait to see you!
URL:https://ashraeghana.org/event/example-chapter-meeting-2/
LOCATION:Ghana Institution of Engineering\, North Ridge\, Accra\, Accra\, Ghana
CATEGORIES:Chapter Meetings
ATTACH;FMTTYPE=image/jpeg:https://ashraeghana.org/wp-content/uploads/2024/11/End-of-year.jpg
ORGANIZER;CN="Nana Quansah":MAILTO:info@ashraeghana.org
END:VEVENT
END:VCALENDAR